BEGIN:VCALENDAR
VERSION:2.0
PRODID:-//eventon.com NONSGML v1.0//EN
CALSCALE:GREGORIAN
METHOD:PUBLISH
BEGIN:VEVENT
UID:69eb2e8d47044
DTSTAMP:20260424T084917Z
DTSTART:20260425T003000Z
DTEND:20260425T020000Z
LOCATION:Parker Players Theater Company 540 W. Northwest Highway
SUMMARY:The Lifespan of a Fact at Parker Players Theater April 24
DESCRIPTION:Tickets are now on sale for The Lifespan of a Fact\,  the lates
 t featured performance at Parker Players Theater Company directed by Barrin
 gton&#8217;s own\,  Dominic Green. There are fourteen weekend performances 
 scheduled between April 24th and May 17th\,  2026 so save the date\,  phone
  a friend and reserve your seats[..]\nhttps://365barrington.com/events/the-
 lifespan-of-a-fact-parker-players-theater-april-24-2026/var/ri-1.l-L1
URL:https://365barrington.com/events/the-lifespan-of-a-fact-parker-players-theater-april-24-2026/var/ri-1.l-L1
END:VEVENT
END:VCALENDAR