BEGIN:VCALENDAR
VERSION:2.0
PRODID:-//eventon.com NONSGML v1.0//EN
CALSCALE:GREGORIAN
METHOD:PUBLISH
BEGIN:VEVENT
UID:69eb0261672e4
DTSTAMP:20260424T054049Z
DTSTART:20260510T130000Z
DTEND:20260510T170000Z
LOCATION:Village of Barrington 212 South Grove Avenue
SUMMARY:Mother's Day 5K Run/Walk in the Village of Barrington
DESCRIPTION:Do something fun with mom this Mother&#8217;s Day with the 17th
  annual Mother&#8217;s Day 5K Run/Walk hosted by All Community Events on th
 e streets of Barrington. This event helps support the local charity WINGS P
 rogram\,  which provides a continuum of integrated services in an effort to
  end domestic violence and[..]\nhttps://365barrington.com/events/mothers-da
 y-5k-run-walk-village-of-barrington-2026/
URL:https://365barrington.com/events/mothers-day-5k-run-walk-village-of-barrington-2026/
END:VEVENT
END:VCALENDAR