BEGIN:VCALENDAR
VERSION:2.0
PRODID:-//eventon.com NONSGML v1.0//EN
CALSCALE:GREGORIAN
METHOD:PUBLISH
BEGIN:VEVENT
UID:69eb0298d13d7
DTSTAMP:20260424T054144Z
DTSTART:20260425T150000Z
DTEND:20260425T180000Z
LOCATION:Barrington Area Library 505 N. Northwest Highway Barrington\,  Illinois 60010
SUMMARY:Baby Fair at the Barrington Area Library
DESCRIPTION:Saturday\,  April 25\,  2026 10 AM &#8211; 1 PM Click here to r
 egister online to receive an email reminder. Welcome to Baby Fair! Connect 
 with the information and resources you need most as an expecting parent or 
 caregiver of a child ages 0 – 2. Enjoy baby and me activities\, [..]\nhtt
 ps://365barrington.com/events/baby-fair-barrington-area-library/
URL:https://365barrington.com/events/baby-fair-barrington-area-library/
END:VEVENT
END:VCALENDAR