BEGIN:VCALENDAR
VERSION:2.0
PRODID:-//eventon.com NONSGML v1.0//EN
CALSCALE:GREGORIAN
METHOD:PUBLISH
BEGIN:VEVENT
UID:69eb0298d0b1b
DTSTAMP:20260424T054144Z
DTSTART:20260426T200000Z
DTEND:20260426T213000Z
LOCATION:Barrington's White House 145 W. Main Street Barrington\,  Illinois 60010
SUMMARY:Elgin Symphony String Quartet: American Masters
DESCRIPTION:Experience the artistry of America’s greatest composers with 
 the Elgin Symphony String Quartet from 3-4:30 p.m. on Sunday\,  April 26th 
 at Barrington&#8217;s White House. An unforgettable musical journey awaits!
  Barrington’s White House welcomes back the Elgin Symphony String Quartet
  for an afternoon of extraordinary music celebrating American Masters. Feat
 uring principal[..]\nhttps://365barrington.com/events/elgin-symphony-string
 -quartet-american-masters/
URL:https://365barrington.com/events/elgin-symphony-string-quartet-american-masters/
END:VEVENT
END:VCALENDAR