BEGIN:VCALENDAR
VERSION:2.0
PRODID:-//eventon.com NONSGML v1.0//EN
CALSCALE:GREGORIAN
METHOD:PUBLISH
BEGIN:VEVENT
UID:69eb029a55da3
DTSTAMP:20260424T054146Z
DTSTART:20260509T000000Z
DTEND:20260509T011500Z
LOCATION:Barrington Area Library 505 N. Northwest Highway Barrington\,  Illinois 60010
SUMMARY:Donna Herula Trio to Perform for "Second Fridays" at the Barrington Area Library
DESCRIPTION:Award winning singer/songwriter\,  side guitarist and Chicago B
 lues Hall of Fame Inductee\,  Donna Herula will be performing from 7:00 to 
 8:15 p.m. on Friday\,  May 8th for the next &#8220;Second Fridays&#8221; Co
 ncert coming up at the Barrington Area Library. Enjoy lively\,  heartfelt v
 ersions of traditional Delta Blues\,  Chicago Blues and[..]\nhttps://365bar
 rington.com/events/donna-herula-trio-second-fridays-barrington-area-library
 /
URL:https://365barrington.com/events/donna-herula-trio-second-fridays-barrington-area-library/
END:VEVENT
END:VCALENDAR