BEGIN:VCALENDAR
VERSION:2.0
PRODID:-//eventon.com NONSGML v1.0//EN
CALSCALE:GREGORIAN
METHOD:PUBLISH
BEGIN:VEVENT
UID:69eb0261bc85e
DTSTAMP:20260424T054049Z
DTSTART:20260517T200000Z
DTEND:20260517T220000Z
LOCATION:Barrington's White House 145 W. Main Street Barrington\,  Illinois 60010
SUMMARY:Vanessa Becerra\,  Soprano: American Song and Spirit at Barrington's White House
DESCRIPTION:Join the audience at Barrington&#8217;s White House for an ench
 anting musical journey with Vanessa Becerra\,  celebrating the essence of A
 merican Song and Spirit. It&#8217;s happening at 3:00 p.m. on Sunday\,  May
  17th. Who: Vanessa Becerra What: An afternoon of song Where: Barrington&#8
 217;s White House When: 3:00 p.m. on Sunday\,  May[..]\nhttps://365barringt
 on.com/events/vanessa-becerra-soprano-american-song-spirit-barringtons-whit
 e-house-2026/
URL:https://365barrington.com/events/vanessa-becerra-soprano-american-song-spirit-barringtons-white-house-2026/
END:VEVENT
END:VCALENDAR