BEGIN:VCALENDAR
VERSION:2.0
PRODID:-//eventon.com NONSGML v1.0//EN
CALSCALE:GREGORIAN
METHOD:PUBLISH
BEGIN:VEVENT
UID:69eb144919b68
DTSTAMP:20260424T065713Z
DTSTART:20260507T213000Z
DTEND:20260507T230000Z
LOCATION:Barrington's White House 145 W. Main Street Barrington\,  Illinois 60010
SUMMARY:Cocktails & Conversation with Shakespeare Behind Bars: A Conversation with Founder Curt Tofteland
DESCRIPTION:Join Barrington&#8217;s White House at 4:30 p.m. on Thursday\, 
  May 7 for an inspiring Cocktails and Conversation with Curt Tofteland\,  f
 ounder of Shakespeare Behind Bars. Prepare to be inspired! Curt Tofteland\,
   founder and Producing Artistic Director of the internationally acclaimed 
 program Shakespeare Behind Bars\,  will share his experiences bringing the[
 ..]\nhttps://365barrington.com/events/shakespeare-behind-bars-curt-toftelan
 d-founder/
URL:https://365barrington.com/events/shakespeare-behind-bars-curt-tofteland-founder/
END:VEVENT
END:VCALENDAR