BEGIN:VCALENDAR
VERSION:2.0
PRODID:-//eventon.com NONSGML v1.0//EN
CALSCALE:GREGORIAN
METHOD:PUBLISH
BEGIN:VEVENT
UID:69eb0299ca4ea
DTSTAMP:20260424T054145Z
DTSTART:20260521T230000Z
DTEND:20260522T010000Z
LOCATION:Barrington's White House 145 W. Main Street Barrington\,  Illinois 60010
SUMMARY:Third Thursday: Emerging Voices: Barrington’s New Generation of Artists
DESCRIPTION:Get ready to be blown away by the incredible talent of Barringt
 on’s up-and-coming artists during the “Emerging Voices” event at Barr
 ington&#8217;s White House! It&#8217;s happening from 6:00-8:00 p.m. on Eme
 rging Voices is an exhibition celebrating the creativity and talent of Barr
 ington’s rising young artists. Featuring a diverse collection of art\, [.
 .]\nhttps://365barrington.com/events/emerging-artists-third-thursday-barrin
 gtons-white-house/
URL:https://365barrington.com/events/emerging-artists-third-thursday-barringtons-white-house/
END:VEVENT
END:VCALENDAR