BEGIN:VCALENDAR
VERSION:2.0
PRODID:-//eventon.com NONSGML v1.0//EN
CALSCALE:GREGORIAN
METHOD:PUBLISH
BEGIN:VEVENT
UID:69eb155da0ba6
DTSTAMP:20260424T070149Z
DTSTART:20260503T140000Z
DTEND:20260503T200000Z
LOCATION:Hill 'N Dale Preserve 11801 Ridge Road Barrington Hills\,  Illinois 60010
SUMMARY:Citizens for Conservation Spring Native Plant\,  Shrub\,  & Tree Sale May 3
DESCRIPTION:2026 marks Citizens for Conservation&#8217;s 30th Annual Native
  Plant\,  Tree\,  and Shrub Sale. It has become one of the largest sales in
  the region\,  featuring more than 200 species of native forbs\,  grasses\,
   trees\,  and shrubs. All plants are acquired from high-quality local nurs
 eries and are grown without the use[..]\nhttps://365barrington.com/events/c
 itizens-for-conservation-spring-native-plant-shrub-tree-sale-may-3-2026/
URL:https://365barrington.com/events/citizens-for-conservation-spring-native-plant-shrub-tree-sale-may-3-2026/
END:VEVENT
END:VCALENDAR