BEGIN:VCALENDAR
VERSION:2.0
PRODID:-//eventon.com NONSGML v1.0//EN
CALSCALE:GREGORIAN
METHOD:PUBLISH
BEGIN:VEVENT
UID:69eb121a674dd
DTSTAMP:20260424T064754Z
DTSTART:20260425T150000Z
DTEND:20260425T190000Z
LOCATION:Village of Barrington Public Safety Facility 400 N Northwest Highway
SUMMARY:DEA National Prescription Drug Take Back Day
DESCRIPTION:The Barrington Police Department is participating in the Drug E
 nforcement Administration (DEA) National Prescription Drug Take Back Day. T
 his free\,  drive-thru event helps keep our community safe by giving you an
  easy way to dispose of unwanted medications\,  right from your car. Saturd
 ay\,  April 25 10 a.m. to 2 p.m.[..]\nhttps://365barrington.com/events/dea-
 national-prescription-drug-take-back-day-april25-2026/
URL:https://365barrington.com/events/dea-national-prescription-drug-take-back-day-april25-2026/
END:VEVENT
END:VCALENDAR